BEGIN:VCALENDAR
VERSION:2.0
PRODID:-//Scènes Occupations - ECPv6.15.20//NONSGML v1.0//EN
CALSCALE:GREGORIAN
METHOD:PUBLISH
X-WR-CALNAME:Scènes Occupations
X-ORIGINAL-URL:https://www.scenesoccupations.com
X-WR-CALDESC:Évènements pour Scènes Occupations
REFRESH-INTERVAL;VALUE=DURATION:PT1H
X-Robots-Tag:noindex
X-PUBLISHED-TTL:PT1H
BEGIN:VTIMEZONE
TZID:Europe/Paris
BEGIN:DAYLIGHT
TZOFFSETFROM:+0100
TZOFFSETTO:+0200
TZNAME:CEST
DTSTART:20250330T010000
END:DAYLIGHT
BEGIN:STANDARD
TZOFFSETFROM:+0200
TZOFFSETTO:+0100
TZNAME:CET
DTSTART:20251026T010000
END:STANDARD
BEGIN:DAYLIGHT
TZOFFSETFROM:+0100
TZOFFSETTO:+0200
TZNAME:CEST
DTSTART:20260329T010000
END:DAYLIGHT
BEGIN:STANDARD
TZOFFSETFROM:+0200
TZOFFSETTO:+0100
TZNAME:CET
DTSTART:20261025T010000
END:STANDARD
BEGIN:DAYLIGHT
TZOFFSETFROM:+0100
TZOFFSETTO:+0200
TZNAME:CEST
DTSTART:20270328T010000
END:DAYLIGHT
BEGIN:STANDARD
TZOFFSETFROM:+0200
TZOFFSETTO:+0100
TZNAME:CET
DTSTART:20271031T010000
END:STANDARD
END:VTIMEZONE
BEGIN:VEVENT
DTSTART;TZID=Europe/Paris:20260425T203000
DTEND;TZID=Europe/Paris:20260425T213000
DTSTAMP:20260424T175835
CREATED:20251217T141637Z
LAST-MODIFIED:20251217T141637Z
UID:1863-1777149000-1777152600@www.scenesoccupations.com
SUMMARY:ciné-concert Découverte de Keaton à Norges-la-Ville
DESCRIPTION:Pour en savoir + : https://www.scenesoccupations.com/a-la-rencontre-de-buster-keaton/
URL:https://www.scenesoccupations.com/event/cine-concert-decouverte-de-keaton-a-norges-la-ville/
LOCATION:Dijon
CATEGORIES:représentation
END:VEVENT
BEGIN:VEVENT
DTSTART;TZID=Europe/Paris:20260530T210000
DTEND;TZID=Europe/Paris:20260530T220000
DTSTAMP:20260424T175835
CREATED:20260407T095105Z
LAST-MODIFIED:20260407T095142Z
UID:1972-1780174800-1780178400@www.scenesoccupations.com
SUMMARY:ciné-concert Découverte de Keaton à Source-Seine
DESCRIPTION:Pour en savoir + : https://www.scenesoccupations.com/a-la-rencontre-de-buster-keaton/
URL:https://www.scenesoccupations.com/event/cine-concert-decouverte-keaton-a-source-seine/
LOCATION:Source Seine\, 15\, rue des Pommerets\, Source Seine Saint Germain\, 21551\, France
CATEGORIES:représentation
ORGANIZER;CN="Sc%C3%A8nes Occupations":MAILTO:scenesoccupations@orange.fr
END:VEVENT
BEGIN:VEVENT
DTSTART;TZID=Europe/Paris:20260613T180000
DTEND;TZID=Europe/Paris:20260613T190000
DTSTAMP:20260424T175835
CREATED:20251217T142330Z
LAST-MODIFIED:20251217T142338Z
UID:1865-1781373600-1781377200@www.scenesoccupations.com
SUMMARY:ciné-concert Découverte de Keaton à Savigny-sous-Malain
DESCRIPTION:Pour en savoir + : https://www.scenesoccupations.com/a-la-rencontre-de-buster-keaton/ \nAu chapeau avec apéro partagé après la représentation.
URL:https://www.scenesoccupations.com/event/cine-concert-decouverte-de-keaton-a-savigny-sous-malain/
LOCATION:La Grange à Jojo\, 2\, rue des Champs\, Savigny-sous-Malain\, 21540\, France
CATEGORIES:représentation
ORGANIZER;CN="Sc%C3%A8nes Occupations":MAILTO:scenesoccupations@orange.fr
END:VEVENT
BEGIN:VEVENT
DTSTART;TZID=Europe/Paris:20260617T160000
DTEND;TZID=Europe/Paris:20260617T165200
DTSTAMP:20260424T175835
CREATED:20260407T094125Z
LAST-MODIFIED:20260407T095234Z
UID:1963-1781712000-1781715120@www.scenesoccupations.com
SUMMARY:ciné-concert Laurel & Hardy - premiers coups de génie
DESCRIPTION:représentation tout public dans le cadre du festival 2026 de ciné-concerts\nTarif unique : 5\,50 euros – sans réservation\n51 minutes – 3 films burlesques des années 1927 et 1929 \nLaurel & Hardy est le nom d’un duo comique constitué en 1927 et formé par les acteurs Stan Laurel et Oliver Hardy. Durant une carrière de plus de 25 ans et de plus de 100 films\, ce duo a atteint une notoriété internationale. Hardy est celui qui décide ; Laurel\, naïf et maladroit\, fait souvent des bêtises qui mettent Hardy dans l’embarras\, et qui l’agacent profondément. \nLes deux musiciens ont composé une musique spécialement pour les trois films du programme : La Bataille du Siècle (près de 3.000 tartes à la crème ont été utilisées pendant le tournage)\, Œil pour Œil (vendre des sapins de Noël au mois d’août peut s’avérer destructeur) et Vive la Liberté (changer de pantalons au sommet d’un gratte-ciel en construction… vertigineux !). \nAvec les musiciens de Scènes Occupations : Olivier Pornin (violon\, flûte\, composition) et Philippe Poisse (clavier et composition)
URL:https://www.scenesoccupations.com/event/cine-concert-laurel-hardy-premiers-coups-de-genie/
LOCATION:cinéma Eldorado\, 21\, rue Alfred de Musset\, Dijon\, 21000\, France
CATEGORIES:Festival
ORGANIZER;CN="Sc%C3%A8nes Occupations":MAILTO:scenesoccupations@orange.fr
END:VEVENT
BEGIN:VEVENT
DTSTART;TZID=Europe/Paris:20260618T100000
DTEND;TZID=Europe/Paris:20260618T105200
DTSTAMP:20260424T175835
CREATED:20260407T094616Z
LAST-MODIFIED:20260407T094616Z
UID:1967-1781776800-1781779920@www.scenesoccupations.com
SUMMARY:ciné-concert Laurel & Hardy - premiers coups de génie
DESCRIPTION:représentation scolaire dans le cadre du festival 2026 de ciné-concerts \nTarif unique : 5\,50 euros – sans réservation\n51 minutes – 3 films burlesques des années 1927 et 1929 \nLaurel & Hardy est le nom d’un duo comique constitué en 1927 et formé par les acteurs Stan Laurel et Oliver Hardy. Durant une carrière de plus de 25 ans et de plus de 100 films\, ce duo a atteint une notoriété internationale. Hardy est celui qui décide ; Laurel\, naïf et maladroit\, fait souvent des bêtises qui mettent Hardy dans l’embarras\, et qui l’agacent profondément. \nLes deux musiciens ont composé une musique spécialement pour les trois films du programme : La Bataille du Siècle (près de 3.000 tartes à la crème ont été utilisées pendant le tournage)\, Œil pour Œil (vendre des sapins de Noël au mois d’août peut s’avérer destructeur) et Vive la Liberté (changer de pantalons au sommet d’un gratte-ciel en construction… vertigineux !). \nAvec les musiciens de Scènes Occupations : Olivier Pornin (violon\, flûte\, composition) et Philippe Poisse (clavier et composition)
URL:https://www.scenesoccupations.com/event/cine-concert-laurel-hardy-premiers-coups-de-genie-3/
LOCATION:cinéma Eldorado\, 21\, rue Alfred de Musset\, Dijon\, 21000\, France
CATEGORIES:Festival
ORGANIZER;CN="Sc%C3%A8nes Occupations":MAILTO:scenesoccupations@orange.fr
END:VEVENT
BEGIN:VEVENT
DTSTART;TZID=Europe/Paris:20260618T143000
DTEND;TZID=Europe/Paris:20260618T152200
DTSTAMP:20260424T175835
CREATED:20260407T094746Z
LAST-MODIFIED:20260407T094917Z
UID:1969-1781793000-1781796120@www.scenesoccupations.com
SUMMARY:ciné-concert Laurel & Hardy – premiers coups de génie
DESCRIPTION:représentation scolaire dans le cadre du festival 2026 de ciné-concerts \nTarif unique : 5\,50 euros – sans réservation\n51 minutes – 3 films burlesques des années 1927 et 1929 \nLaurel & Hardy est le nom d’un duo comique constitué en 1927 et formé par les acteurs Stan Laurel et Oliver Hardy. Durant une carrière de plus de 25 ans et de plus de 100 films\, ce duo a atteint une notoriété internationale. Hardy est celui qui décide ; Laurel\, naïf et maladroit\, fait souvent des bêtises qui mettent Hardy dans l’embarras\, et qui l’agacent profondément. \nLes deux musiciens ont composé une musique spécialement pour les trois films du programme : La Bataille du Siècle (près de 3.000 tartes à la crème ont été utilisées pendant le tournage)\, Œil pour Œil (vendre des sapins de Noël au mois d’août peut s’avérer destructeur) et Vive la Liberté (changer de pantalons au sommet d’un gratte-ciel en construction… vertigineux !). \nAvec les musiciens de Scènes Occupations : Olivier Pornin (violon\, flûte\, composition) et Philippe Poisse (clavier et composition)
URL:https://www.scenesoccupations.com/event/cine-concert-laurel-hardy-premiers-coups-de-genie-4/
LOCATION:cinéma Eldorado\, 21\, rue Alfred de Musset\, Dijon\, 21000\, France
CATEGORIES:Festival
ORGANIZER;CN="Sc%C3%A8nes Occupations":MAILTO:scenesoccupations@orange.fr
END:VEVENT
BEGIN:VEVENT
DTSTART;TZID=Europe/Paris:20260619T100000
DTEND;TZID=Europe/Paris:20260619T105200
DTSTAMP:20260424T175835
CREATED:20260407T094426Z
LAST-MODIFIED:20260407T094426Z
UID:1965-1781863200-1781866320@www.scenesoccupations.com
SUMMARY:ciné-concert Laurel & Hardy - premiers coups de génie
DESCRIPTION:représentation scolaire dans le cadre du festival 2026 de ciné-concerts \nTarif unique : 5\,50 euros – sans réservation\n51 minutes – 3 films burlesques des années 1927 et 1929 \nLaurel & Hardy est le nom d’un duo comique constitué en 1927 et formé par les acteurs Stan Laurel et Oliver Hardy. Durant une carrière de plus de 25 ans et de plus de 100 films\, ce duo a atteint une notoriété internationale. Hardy est celui qui décide ; Laurel\, naïf et maladroit\, fait souvent des bêtises qui mettent Hardy dans l’embarras\, et qui l’agacent profondément. \nLes deux musiciens ont composé une musique spécialement pour les trois films du programme : La Bataille du Siècle (près de 3.000 tartes à la crème ont été utilisées pendant le tournage)\, Œil pour Œil (vendre des sapins de Noël au mois d’août peut s’avérer destructeur) et Vive la Liberté (changer de pantalons au sommet d’un gratte-ciel en construction… vertigineux !). \nAvec les musiciens de Scènes Occupations : Olivier Pornin (violon\, flûte\, composition) et Philippe Poisse (clavier et composition)
URL:https://www.scenesoccupations.com/event/cine-concert-laurel-hardy-premiers-coups-de-genie-2/
LOCATION:cinéma Eldorado\, 21\, rue Alfred de Musset\, Dijon\, 21000\, France
CATEGORIES:Festival
ORGANIZER;CN="Sc%C3%A8nes Occupations":MAILTO:scenesoccupations@orange.fr
END:VEVENT
BEGIN:VEVENT
DTSTART;TZID=Europe/Paris:20260623T203000
DTEND;TZID=Europe/Paris:20260623T213000
DTSTAMP:20260424T175835
CREATED:20251217T145201Z
LAST-MODIFIED:20251217T145201Z
UID:1868-1782246600-1782250200@www.scenesoccupations.com
SUMMARY:ciné-concert Melodie der Welt accompagné par BenNasr AlGhandour
DESCRIPTION:Melodie der Welt  (Mélodie du monde) de Walter Ruttmann accompagné par BenNasr AlGhandour\nDocumentaire de 1929 – 52 minutes\n \nCe film documentaire livre une impression de l’état du monde en 1929. Walter Ruttman base sa narration sur le voyage initiatique d’un marin et créé un collage contrasté des similitudes et des différences de religions\, de coutumes\, d’arts et de cultures à travers le monde. Tourné dans près de 20 pays\, le film est découpé en chapitres dégageant des thématiques universelles comme préparer un repas\, enterrer ses morts\, danser\, élever ses enfants… Le tout créant une humanité. Film expérimental pour l’époque\, on y découvre des paysages époustouflants\, des rituels et des cérémonies ou encore des scènes de la vie quotidienne. \nCe film s’est naturellement imposé aux 5 musiciens de BenNasr AlGhandour qui ont composé la musique spécialement pour les images alternants plans épileptiques et plages contemplatives. Leur musique incisive appuyée sur des grooves chaloupés\, oscille entre math-rock\, punk\, et hardcore. \nAvec : Damien BenNasr – guitare\, Adrian AlGhandour – batterie\, FC – clavier\, David Bridet – violon doux\, Thomas Carpentier – violon dyr et Arthur de Bary : régisseur son \n\n\nBuvette et restauration légère avant et après la projection\nPRIX LIBRE / SANS RESERVATION / JAUGE LIMITEE
URL:https://www.scenesoccupations.com/event/cine-concert-melodie-der-welt-accompagne-par-bennasr-alghandour/
LOCATION:Théâtre Mansart\, 94\, boulevard Mansart\, Dijon\, 21000\, France
CATEGORIES:Festival
ORGANIZER;CN="Sc%C3%A8nes Occupations":MAILTO:scenesoccupations@orange.fr
END:VEVENT
BEGIN:VEVENT
DTSTART;TZID=Europe/Paris:20260624T203000
DTEND;TZID=Europe/Paris:20260624T213000
DTSTAMP:20260424T175835
CREATED:20251217T150124Z
LAST-MODIFIED:20251217T150146Z
UID:1871-1782333000-1782336600@www.scenesoccupations.com
SUMMARY:ciné-concert Frankenstein accompagné par Joachim Latarjet
DESCRIPTION:Frankenstein de James Whale accompagné par la compagnie Oh Oui !\nFilm de 1931 – 60 minutes\n \nGrand classique du cinéma\, ce film raconte l’histoire d’un être créé par un savant à partir de cadavres. L’être\, monstrueux d’apparence et violent par nature\, est abandonné par son créateur ; et devient vite alors incontrôlable semant le chaos et la mort. Mais qui est responsable ? Le Monstre ou celui l’a créé ? \nJoachim Latarjet et Julien Reboux\, musiciens multi-instrumentistes\, ingénieur du son et créateurs sonores accompagnent en direct l’étonnante poésie de Frankenstein\, monstre aux gestes lents et aux postures effrayantes. En jouant avec les sons du film\, des basses\, des guitares électriques\, des instruments à vent\, des sons électro\, ils suivent les aventures de cet être mélancolique créé à partir d’électricité lui aussi et donne une nouvelle vie à ce grand film. \nAvec :\nJoachim Latarjet : guitare\, trombone\, basse\nJulien Reboux : synthétiseurs analogique et numériques\, voix \n\n\nBuvette et restauration légère avant et après la projection\nPRIX LIBRE / SANS RESERVATION / JAUGE LIMITEE
URL:https://www.scenesoccupations.com/event/1871/
LOCATION:Théâtre Mansart\, 94\, boulevard Mansart\, Dijon\, 21000\, France
CATEGORIES:Festival
ORGANIZER;CN="Sc%C3%A8nes Occupations":MAILTO:scenesoccupations@orange.fr
END:VEVENT
BEGIN:VEVENT
DTSTART;TZID=Europe/Paris:20260625T220000
DTEND;TZID=Europe/Paris:20260625T231000
DTSTAMP:20260424T175835
CREATED:20260407T095553Z
LAST-MODIFIED:20260407T095636Z
UID:1976-1782424800-1782429000@www.scenesoccupations.com
SUMMARY:ciné-concert La Jeune fille au carton à chapeau accompagné par le Quatuor Kassap
DESCRIPTION:Film de Boris Barnet – 68 minutes – film de 1927\nPrix libre – pas de réservations\nBuvette et restauration légère à partir de 19h et apéritif musical à 20h \nNatacha vit avec son père non loin de Moscou\, fabrique des chapeaux et les porte au magasin de Madame Irène dans la capitale. Elle rencontre un jeune homme arrivé de province\, il recherche sans succès un logement… \nLe canevas de l’histoire en apparence banale\, dénonce les conditions de vie dans la Russie de l’époque : l’émigration des provinciaux vers la capitale\, les difficultés à se loger que l’on résout par les mariages fictifs\, la cupidité de certains devant l’argent… \nCe petit bijou de comédie réalisé par Boris Barnet\, héritier du mouvement d’avant-garde de la Feks (Fabrique de l’acteur excentrique)\, est d’un style dépouillé quant aux décors et proche du burlesque quant aux personnages. \nSylvain Kassap\, féru de ciné-concert\, a composé la musique spécialement pour le film et pour cet instrumentarium particulier. \nAccompagné par : Sylvain KASSAP (clarinettes\, composition)\, Nils KASSAP (clarinettes\, effets)\, Janick MARTIN (accordéon diatonique) et Samuel BER (batterie\, percussions).
URL:https://www.scenesoccupations.com/event/cine-concert-la-jeune-fille-au-carton-a-chapeau-accompagne-par-le-quatuor-kassap/
LOCATION:Jardin derrière l’Hotel de Vogué\, 8 rue de la Chouette\, Dijon\, Dijon\, 21000\, France
CATEGORIES:Festival
ORGANIZER;CN="Sc%C3%A8nes Occupations":MAILTO:scenesoccupations@orange.fr
END:VEVENT
BEGIN:VEVENT
DTSTART;TZID=Europe/Paris:20260626T220000
DTEND;TZID=Europe/Paris:20260626T232500
DTSTAMP:20260424T175835
CREATED:20260407T095859Z
LAST-MODIFIED:20260407T095859Z
UID:1979-1782511200-1782516300@www.scenesoccupations.com
SUMMARY:ciné-concert Flow accompagné par les élèves du département Jazz du Conservatoire
DESCRIPTION:Flow\, le chat qui n’avait plus peur de l’eau – film d’animation de Gints Zilbalodis de 2024 – 85 minutes\nPrix libre – pas de réservations\nBuvette et restauration légère à partir de 19h et apéritif musical à 20h \nFlow a reçu le César 2025 du meilleur film d’animation ainsi que l’Oscar 2025 du meilleur film d’animation. Il raconte l’histoire d’un petit chat noir qui tente de survivre à une montée des eaux généralisée\, dans un monde où l’humanité semble avoir disparu. Il devra autant surmonter sa peur de l’eau que relever le défi de s’entendre avec les autres animaux\, lui le chat de nature solitaire. C’est une fable sans dialogue qui foisonne de vie\, végétale et animale\, une fable touchante sur le rapport à l’autre\, le bonheur et la nécessité d’apprendre à vivre ensemble. \nDepuis septembre 2023\, un atelier de ciné-concert a été créé au sein du département Jazz du CRR. Ce sont les élèves eux-mêmes qui choisissent le film et composent la musique qu’ils interprètent en direct installés au pied de l’écran. \nAccompagné par : Marie Adam (violon)\, Eliott Lalanne (guitare)\, Marianne Thevenin (chant)\, Louna Affane Pecot (batterie)\, Gabriel Zanlonghi (piano\, trompette) et Julien Vuillaume (basse).
URL:https://www.scenesoccupations.com/event/cine-concert-flow-accompagne-par-les-eleves-du-departement-jazz-du-conservatoire/
LOCATION:Jardin derrière l’Hotel de Vogué\, 8 rue de la Chouette\, Dijon\, Dijon\, 21000\, France
CATEGORIES:Festival
ORGANIZER;CN="Sc%C3%A8nes Occupations":MAILTO:scenesoccupations@orange.fr
END:VEVENT
BEGIN:VEVENT
DTSTART;TZID=Europe/Paris:20260627T220000
DTEND;TZID=Europe/Paris:20260627T230600
DTSTAMP:20260424T175835
CREATED:20260407T100051Z
LAST-MODIFIED:20260407T100051Z
UID:1981-1782597600-1782601560@www.scenesoccupations.com
SUMMARY:ciné-concert L'inconnu accompagné par le Quatuor Hypérion
DESCRIPTION:66 minutes – 1927 – CREATION / Première représentation\nPrix libre  – pas de réservations\nBuvette et restauration légère à partir de 19h et apéritif musical à 20h \nUn assassin reconnaissable par une malformation à la main (il a trois pouces) échappe aux investigations de la police en se faisant passer pour un lanceur de couteaux dans un cirque gitan. Il a dissimulé ses bras dans un corset et\, simulant l’infirmité\, lance les lames avec les pieds. La fille du directeur\, traumatisée par une agression sexuelle dans son enfance\, s’éprend de lui. Par passion\, le tueur décide d’amputer pour de bons ses bras\, pour pouvoir épouser la jeune fille. C’est sans compter un terrible tour du destin. \nSans exagération aucune\, on peut affirmer que L’Inconnu est l’un des mélodrames les plus délirants jamais réalisés\, dans lequel le cinéaste (créateur du film Freaks) explore la thématique de la monstruosité et de l’humanité\, de la laideur et de la beauté. « On dit que c’est une histoire vraie ». Dès le début du film\, la réalité est déjà en questionnement. \nPierre-Olivier Fernandez a composé une musique spécialement pour le film et son quatuor à cordes sans oublier d’y ajouter des teintes électroniques… \nAccompagné par les musicien.ne.s du Quatuor Hypérion : Pierre-Olivier Fernandez (violon\, composition)\, Fanny Sauvin (violon)\, Antoine Carlier (alto)\, Florent Mascret (violoncelle)
URL:https://www.scenesoccupations.com/event/cine-concert-linconnu-accompagne-par-le-quatuor-hyperion/
LOCATION:Jardin derrière l’Hotel de Vogué\, 8 rue de la Chouette\, Dijon\, Dijon\, 21000\, France
CATEGORIES:Festival
ORGANIZER;CN="Sc%C3%A8nes Occupations":MAILTO:scenesoccupations@orange.fr
END:VEVENT
END:VCALENDAR